BEGIN:VCALENDAR
VERSION:2.0
PRODID:-//Seven Generations Education Institute - ECPv6.15.13.1//NONSGML v1.0//EN
CALSCALE:GREGORIAN
METHOD:PUBLISH
X-WR-CALNAME:Seven Generations Education Institute
X-ORIGINAL-URL:https://www.7generations.org
X-WR-CALDESC:Events for Seven Generations Education Institute
REFRESH-INTERVAL;VALUE=DURATION:PT1H
X-Robots-Tag:noindex
X-PUBLISHED-TTL:PT1H
BEGIN:VTIMEZONE
TZID:America/Winnipeg
BEGIN:DAYLIGHT
TZOFFSETFROM:-0600
TZOFFSETTO:-0500
TZNAME:CDT
DTSTART:20250309T080000
END:DAYLIGHT
BEGIN:STANDARD
TZOFFSETFROM:-0500
TZOFFSETTO:-0600
TZNAME:CST
DTSTART:20251102T070000
END:STANDARD
BEGIN:DAYLIGHT
TZOFFSETFROM:-0600
TZOFFSETTO:-0500
TZNAME:CDT
DTSTART:20260308T080000
END:DAYLIGHT
BEGIN:STANDARD
TZOFFSETFROM:-0500
TZOFFSETTO:-0600
TZNAME:CST
DTSTART:20261101T070000
END:STANDARD
BEGIN:DAYLIGHT
TZOFFSETFROM:-0600
TZOFFSETTO:-0500
TZNAME:CDT
DTSTART:20270314T080000
END:DAYLIGHT
BEGIN:STANDARD
TZOFFSETFROM:-0500
TZOFFSETTO:-0600
TZNAME:CST
DTSTART:20271107T070000
END:STANDARD
END:VTIMEZONE
BEGIN:VEVENT
DTSTART;TZID=America/Winnipeg:20260511T090000
DTEND;TZID=America/Winnipeg:20260619T160000
DTSTAMP:20260422T031443
CREATED:20260420T181922Z
LAST-MODIFIED:20260420T181922Z
UID:9382-1778490000-1781884800@www.7generations.org
SUMMARY:Small Engine Repair Training
DESCRIPTION:This training is open to everyone and runs from May 11 to June 19\, 2026\, Monday to Friday\, from 9 a.m. to 4 p.m. \nParticipants will gain the foundational skills through a variety of techniques to open pathways into a career of Small Engine Repairs. This program will enable learners to gain the necessary knowledge and skills to confidently complete repairs. \nProgram cost\n$5\,000 — funding is available for eligible participants. Please reach out to the contact below to determine if you qualify. \nContact\nKatelyn McCaig\nkatelynm@7generations.org\n(807) 274-2796 \nApply\nApply online at the following link: https://forms.office.com/r/FJjmhg1NXk
URL:https://www.7generations.org/event/small-engine-repair-training-2/
LOCATION:Rainy Lake Campus\, 1452 Idylwild Drive\, Fort Frances\, Ontario\, P9A3M6\, Canada
CATEGORIES:Training for Employment
ORGANIZER;CN="Katelyn McCaig":MAILTO:katelynm@7generations.org
END:VEVENT
END:VCALENDAR