BEGIN:VCALENDAR
VERSION:2.0
PRODID:-//Seven Generations Education Institute - ECPv6.15.13.1//NONSGML v1.0//EN
CALSCALE:GREGORIAN
METHOD:PUBLISH
X-WR-CALNAME:Seven Generations Education Institute
X-ORIGINAL-URL:https://www.7generations.org
X-WR-CALDESC:Events for Seven Generations Education Institute
REFRESH-INTERVAL;VALUE=DURATION:PT1H
X-Robots-Tag:noindex
X-PUBLISHED-TTL:PT1H
BEGIN:VTIMEZONE
TZID:America/Winnipeg
BEGIN:DAYLIGHT
TZOFFSETFROM:-0600
TZOFFSETTO:-0500
TZNAME:CDT
DTSTART:20250309T080000
END:DAYLIGHT
BEGIN:STANDARD
TZOFFSETFROM:-0500
TZOFFSETTO:-0600
TZNAME:CST
DTSTART:20251102T070000
END:STANDARD
BEGIN:DAYLIGHT
TZOFFSETFROM:-0600
TZOFFSETTO:-0500
TZNAME:CDT
DTSTART:20260308T080000
END:DAYLIGHT
BEGIN:STANDARD
TZOFFSETFROM:-0500
TZOFFSETTO:-0600
TZNAME:CST
DTSTART:20261101T070000
END:STANDARD
BEGIN:DAYLIGHT
TZOFFSETFROM:-0600
TZOFFSETTO:-0500
TZNAME:CDT
DTSTART:20270314T080000
END:DAYLIGHT
BEGIN:STANDARD
TZOFFSETFROM:-0500
TZOFFSETTO:-0600
TZNAME:CST
DTSTART:20271107T070000
END:STANDARD
END:VTIMEZONE
BEGIN:VEVENT
DTSTART;TZID=America/Winnipeg:20260409T113000
DTEND;TZID=America/Winnipeg:20260409T183000
DTSTAMP:20260422T041121
CREATED:20260316T151634Z
LAST-MODIFIED:20260316T151634Z
UID:9268-1775734200-1775759400@www.7generations.org
SUMMARY:Flower Door Hanger
DESCRIPTION:Come create a lovely springtime door decoration. This event is free and open to everyone.  \n\nWho can join? This event is free and open to everyone.   \nHow to participate: No registration is required\, just drop in. Please note that spots and supplies are provided on a first-come\, first-serve basis.   \nFor more information\, contact our Makerspace Assistants. 
URL:https://www.7generations.org/event/flower-door-hanger/
LOCATION:Rainy Lake & Kenora Campus Makerspaces\, Ontario\, Canada
CATEGORIES:Makerspace
ORGANIZER;CN="Maggie LeMesurier":MAILTO:maggiel@7generations.org
END:VEVENT
END:VCALENDAR