BEGIN:VCALENDAR
VERSION:2.0
PRODID:-//Seven Generations Education Institute - ECPv6.15.13.1//NONSGML v1.0//EN
CALSCALE:GREGORIAN
METHOD:PUBLISH
X-WR-CALNAME:Seven Generations Education Institute
X-ORIGINAL-URL:https://www.7generations.org
X-WR-CALDESC:Events for Seven Generations Education Institute
REFRESH-INTERVAL;VALUE=DURATION:PT1H
X-Robots-Tag:noindex
X-PUBLISHED-TTL:PT1H
BEGIN:VTIMEZONE
TZID:America/Winnipeg
BEGIN:DAYLIGHT
TZOFFSETFROM:-0600
TZOFFSETTO:-0500
TZNAME:CDT
DTSTART:20250309T080000
END:DAYLIGHT
BEGIN:STANDARD
TZOFFSETFROM:-0500
TZOFFSETTO:-0600
TZNAME:CST
DTSTART:20251102T070000
END:STANDARD
BEGIN:DAYLIGHT
TZOFFSETFROM:-0600
TZOFFSETTO:-0500
TZNAME:CDT
DTSTART:20260308T080000
END:DAYLIGHT
BEGIN:STANDARD
TZOFFSETFROM:-0500
TZOFFSETTO:-0600
TZNAME:CST
DTSTART:20261101T070000
END:STANDARD
BEGIN:DAYLIGHT
TZOFFSETFROM:-0600
TZOFFSETTO:-0500
TZNAME:CDT
DTSTART:20270314T080000
END:DAYLIGHT
BEGIN:STANDARD
TZOFFSETFROM:-0500
TZOFFSETTO:-0600
TZNAME:CST
DTSTART:20271107T070000
END:STANDARD
END:VTIMEZONE
BEGIN:VEVENT
DTSTART;TZID=America/Winnipeg:20260319T113000
DTEND;TZID=America/Winnipeg:20260319T183000
DTSTAMP:20260420T030130
CREATED:20260219T192334Z
LAST-MODIFIED:20260219T192334Z
UID:9192-1773919800-1773945000@www.7generations.org
SUMMARY:Leather drum keychains
DESCRIPTION:We will be creating drum keychains inspired by the traditional dewe’igan. This event is free and open to everyone.  \n\nWho can join? This event is free and open to everyone.   \nHow to participate: Register online at https://forms.office.com/r/qK8uk89RgQ  \nFor more information\, contact our Makerspace Assistants. 
URL:https://www.7generations.org/event/leather-drum-keychains/
LOCATION:Rainy Lake & Kenora Campus Makerspaces\, Ontario\, Canada
CATEGORIES:Makerspace
ORGANIZER;CN="Maggie LeMesurier":MAILTO:maggiel@7generations.org
END:VEVENT
BEGIN:VEVENT
DTSTART;TZID=America/Winnipeg:20260325T113000
DTEND;TZID=America/Winnipeg:20260325T183000
DTSTAMP:20260420T030130
CREATED:20260217T172131Z
LAST-MODIFIED:20260317T192610Z
UID:9167-1774438200-1774463400@www.7generations.org
SUMMARY:Sewing and Craft Club (CANCELLED)
DESCRIPTION:This event has been cancelled. We apologize for the inconvenience. \nJoin us Wednesdays at the Makerspaces for our weekly Sewing & Craft Club! Learn to sew\, work on an independent project\, or follow along with this month’s challenge. All materials\, including machines\, are provided by SGEI. This event is free and open to everyone.  \n\nThis month’s sewing challenge: Create your own Easter bag or shamrock quilt block  (March). \nWho can join? This event is free and open to everyone.   \nHow to participate: No registration is required\, just drop in. Please note that spots and supplies are provided on a first-come\, first-serve basis.   \nFor more information\, contact our Makerspace Assistants. 
URL:https://www.7generations.org/event/sewing-and-craft-club-rainy-lake-and-kenora-campuses-3/
LOCATION:Rainy Lake & Kenora Campus Makerspaces\, Ontario\, Canada
CATEGORIES:Makerspace
ORGANIZER;CN="Maggie LeMesurier":MAILTO:maggiel@7generations.org
END:VEVENT
BEGIN:VEVENT
DTSTART;TZID=America/Winnipeg:20260326T113000
DTEND;TZID=America/Winnipeg:20260326T183000
DTSTAMP:20260420T030130
CREATED:20260219T192437Z
LAST-MODIFIED:20260317T192748Z
UID:9194-1774524600-1774549800@www.7generations.org
SUMMARY:Easter wreaths (Rainy Lake Campus)
DESCRIPTION:This event has been cancelled at the Kenora Campus. We apologize for the inconvenience. \nDecorate your door for the holiday and create your own festive Easter wreath. This event is free and open to everyone.  \n\nWho can join? This event is free and open to everyone.   \nHow to participate: No registration is required\, just drop in. Please note that spots and supplies are provided on a first-come\, first-serve basis.   \nFor more information\, contact our Makerspace Assistants. 
URL:https://www.7generations.org/event/easter-wreaths/
LOCATION:Rainy Lake & Kenora Campus Makerspaces\, Ontario\, Canada
CATEGORIES:Makerspace
ORGANIZER;CN="Maggie LeMesurier":MAILTO:maggiel@7generations.org
END:VEVENT
END:VCALENDAR